BEGIN:VCALENDAR
VERSION:2.0
PRODID:-//ICF Branch 390 - ECPv5.9.0//NONSGML v1.0//EN
CALSCALE:GREGORIAN
METHOD:PUBLISH
X-WR-CALNAME:ICF Branch 390
X-ORIGINAL-URL:http://www.icfbranch390.org
X-WR-CALDESC:Events for ICF Branch 390
BEGIN:VTIMEZONE
TZID:America/Los_Angeles
BEGIN:DAYLIGHT
TZOFFSETFROM:-0800
TZOFFSETTO:-0700
TZNAME:PDT
DTSTART:20170312T100000
END:DAYLIGHT
BEGIN:STANDARD
TZOFFSETFROM:-0700
TZOFFSETTO:-0800
TZNAME:PST
DTSTART:20171105T090000
END:STANDARD
END:VTIMEZONE
BEGIN:VEVENT
DTSTART;TZID=America/Los_Angeles:20171105T130000
DTEND;TZID=America/Los_Angeles:20171105T150000
DTSTAMP:20260425T202112
CREATED:20171102T152229Z
LAST-MODIFIED:20171102T152229Z
UID:1309-1509886800-1509894000@www.icfbranch390.org
SUMMARY:District Meeting
DESCRIPTION:This meeting is at Queirolo Kitchen in Lathrop (18424 Queirolo Rd)
URL:http://www.icfbranch390.org/event/district-meeting/
END:VEVENT
END:VCALENDAR