BEGIN:VCALENDAR
VERSION:2.0
PRODID:-//ICF Branch 390 - ECPv5.9.0//NONSGML v1.0//EN
CALSCALE:GREGORIAN
METHOD:PUBLISH
X-WR-CALNAME:ICF Branch 390
X-ORIGINAL-URL:http://www.icfbranch390.org
X-WR-CALDESC:Events for ICF Branch 390
BEGIN:VTIMEZONE
TZID:America/Los_Angeles
BEGIN:DAYLIGHT
TZOFFSETFROM:-0800
TZOFFSETTO:-0700
TZNAME:PDT
DTSTART:20190310T100000
END:DAYLIGHT
BEGIN:STANDARD
TZOFFSETFROM:-0700
TZOFFSETTO:-0800
TZNAME:PST
DTSTART:20191103T090000
END:STANDARD
END:VTIMEZONE
BEGIN:VEVENT
DTSTART;VALUE=DATE:20190830
DTEND;VALUE=DATE:20190903
DTSTAMP:20260420T154543
CREATED:20190613T020805Z
LAST-MODIFIED:20190613T020805Z
UID:2790-1567123200-1567468799@www.icfbranch390.org
SUMMARY:ICF Convention
DESCRIPTION:Convention at the Hilton El Conquistador Resort\, Tucson\, Arizona \nOur Delegates are Pres. Anita Ridolfi\, 2Vice Pres. Nancy Schlemmer\, Trustees; Lucy Orsy and Serena Martocchio. Alternates are Stephen Ridolfi and Joe Schlemmer \n  \n.
URL:http://www.icfbranch390.org/event/icf-convention/
LOCATION:Tucson\, AZ
ORGANIZER;CN="Italian%20Catholic%20Federation":MAILTO:sridolfi@sbcglobal.net
END:VEVENT
END:VCALENDAR